BEGIN:VCALENDAR
VERSION:2.0
PRODID:-//Notranjski Park//Event Calendar//SL
CALSCALE:GREGORIAN
METHOD:PUBLISH
BEGIN:VEVENT
UID:81070@notranjski-park.si
DTSTAMP:20260422T165441Z
SUMMARY:Hiking festival: In Janko's footsteps
DESCRIPTION:Hiking festival: 2nd spring hike
DTSTART;TZID=Europe/Ljubljana:20260524T140000
DTEND;TZID=Europe/Ljubljana:20260524T160000
LOCATION:T’dolenj farm
URL:https://notranjski-park.si/en/latest/events/21-pohod-po-jankovih-stopinjah
CATEGORIES:Hiking Festival
X-ENTRY-FEE:Vstopnina: € 15.00 per person\, € 8.00 per person for children from 6
 to 15 years old (includes a meal)\, Free for children up to 6 years
X-TIME:14:00–16:00
END:VEVENT
END:VCALENDAR